BEGIN:VCALENDAR
VERSION:2.0
PRODID:-//CECMI - ECPv6.15.20//NONSGML v1.0//EN
CALSCALE:GREGORIAN
METHOD:PUBLISH
X-WR-CALNAME:CECMI
X-ORIGINAL-URL:https://cecmi.mx
X-WR-CALDESC:Eventos para CECMI
REFRESH-INTERVAL;VALUE=DURATION:PT1H
X-Robots-Tag:noindex
X-PUBLISHED-TTL:PT1H
BEGIN:VTIMEZONE
TZID:America/Mexico_City
BEGIN:STANDARD
TZOFFSETFROM:-0600
TZOFFSETTO:-0600
TZNAME:CST
DTSTART:20230101T000000
END:STANDARD
END:VTIMEZONE
BEGIN:VEVENT
DTSTART;TZID=America/Mexico_City:20240425T080000
DTEND;TZID=America/Mexico_City:20240426T150000
DTSTAMP:20260422T073704
CREATED:20231116T232636Z
LAST-MODIFIED:20240417T205611Z
UID:3314-1714032000-1714143600@cecmi.mx
SUMMARY:Cirugía de pared abdominal y hernias
DESCRIPTION:Horario\n— \n\n\n\nCategoría\nPrecio MN\n\n\n\n\nCirujano General Asociado\n$4\,356.00\n\n\nCirujano General No Asociado\n$7\,018.00\n\n\nResidente Asociado\n$1\,573.00\n\n\nResidente No Asociado\n$3\,207.00\n\n\nOtra especialidad quirúrgica\n$7\,018.00\n\n\n\n\n \n¡APARTA TU LUGAR! \n(55)55343976 \n Forma pre-registro  \n\n\n \n¡APARTA TU LUGAR! \n(55)55343976 \n Forma pre-registro
URL:https://cecmi.mx/eventos/cirugia-de-pared-abdominal-y-hernias/
LOCATION:CECMI CDMX\, Adolfo Prieto 1649\, Col del Valle Sur\, Benito Juárez\, Ciudad de México\, CDMX\, 03100
CATEGORIES:CECMI CDMX
ATTACH;FMTTYPE=image/jpeg:https://cecmi.mx/wp-content/uploads/2023/11/CECMI_Cursos3_CDMX_Azul.jpg
END:VEVENT
END:VCALENDAR